Package: AffyRNADegradation Version: 1.54.0 Command: /home/biocbuild/bbs-3.21-bioc/R/bin/R CMD build --keep-empty-dirs --no-resave-data AffyRNADegradation StartedAt: 2025-10-15 16:07:49 -0400 (Wed, 15 Oct 2025) EndedAt: 2025-10-15 16:09:17 -0400 (Wed, 15 Oct 2025) EllapsedTime: 88.1 seconds RetCode: 0 Status: OK PackageFile: AffyRNADegradation_1.54.0.tar.gz PackageFileSize: 365.7 KiB