Package: AffyRNADegradation Version: 1.54.0 Command: /home/biocbuild/R/R/bin/R CMD INSTALL AffyRNADegradation StartedAt: 2025-10-13 20:24:27 -0000 (Mon, 13 Oct 2025) EndedAt: 2025-10-13 20:24:34 -0000 (Mon, 13 Oct 2025) EllapsedTime: 7.1 seconds RetCode: 0 Status: OK