Package: AffyRNADegradation Version: 1.54.0 Command: /home/biocbuild/R/R/bin/R CMD check --install=check:AffyRNADegradation.install-out.txt --library=/home/biocbuild/R/R/site-library --no-vignettes --timings AffyRNADegradation_1.54.0.tar.gz StartedAt: 2025-10-14 06:04:12 -0000 (Tue, 14 Oct 2025) EndedAt: 2025-10-14 06:06:15 -0000 (Tue, 14 Oct 2025) EllapsedTime: 123.3 seconds RetCode: 0 Status: OK CheckDir: AffyRNADegradation.Rcheck Warnings: 0