Package: AffyRNADegradation Version: 1.54.0 Command: /home/biocbuild/R/R/bin/R CMD build --keep-empty-dirs --no-resave-data AffyRNADegradation StartedAt: 2025-10-13 22:29:54 -0000 (Mon, 13 Oct 2025) EndedAt: 2025-10-13 22:31:58 -0000 (Mon, 13 Oct 2025) EllapsedTime: 124.0 seconds RetCode: 0 Status: OK PackageFile: AffyRNADegradation_1.54.0.tar.gz PackageFileSize: 359.2 KiB