Package: AffyRNADegradation Version: 1.54.0 Command: /Library/Frameworks/R.framework/Resources/bin/R CMD build --keep-empty-dirs --no-resave-data AffyRNADegradation StartedAt: 2025-04-21 15:36:01 -0400 (Mon, 21 Apr 2025) EndedAt: 2025-04-21 15:36:53 -0400 (Mon, 21 Apr 2025) EllapsedTime: 52.6 seconds RetCode: 0 Status: OK PackageFile: AffyRNADegradation_1.54.0.tar.gz PackageFileSize: 365 KiB