Package: AffiXcan Version: 1.28.0 Command: /home/biocbuild/R/R/bin/R CMD INSTALL AffiXcan StartedAt: 2025-11-17 21:28:07 -0000 (Mon, 17 Nov 2025) EndedAt: 2025-11-17 21:28:36 -0000 (Mon, 17 Nov 2025) EllapsedTime: 28.7 seconds RetCode: 0 Status: OK