Package: AffiXcan Version: 1.27.0 Command: F:\biocbuild\bbs-3.22-bioc\R\bin\R.exe CMD check --no-multiarch --install=check:AffiXcan.install-out.txt --library=F:\biocbuild\bbs-3.22-bioc\R\library --no-vignettes --timings AffiXcan_1.27.0.tar.gz StartedAt: 2025-08-15 00:20:46 -0400 (Fri, 15 Aug 2025) EndedAt: 2025-08-15 00:26:50 -0400 (Fri, 15 Aug 2025) EllapsedTime: 364.5 seconds RetCode: 0 Status: OK CheckDir: AffiXcan.Rcheck Warnings: 0