Package: AffiXcan Version: 1.27.0 Command: chmod a+r AffiXcan -R && F:\biocbuild\bbs-3.22-bioc\R\bin\R.exe CMD build --keep-empty-dirs --no-resave-data AffiXcan StartedAt: 2025-08-14 18:21:29 -0400 (Thu, 14 Aug 2025) EndedAt: 2025-08-14 18:27:51 -0400 (Thu, 14 Aug 2025) EllapsedTime: 381.8 seconds RetCode: 0 Status: OK PackageFile: AffiXcan_1.27.0.tar.gz PackageFileSize: 2.373 MiB