Package: AffiXcan Version: 1.28.0 Command: /home/biocbuild/bbs-3.22-bioc/R/bin/R CMD check --install=check:AffiXcan.install-out.txt --library=/home/biocbuild/bbs-3.22-bioc/R/site-library --timings AffiXcan_1.28.0.tar.gz StartedAt: 2025-11-09 21:04:50 -0500 (Sun, 09 Nov 2025) EndedAt: 2025-11-09 21:07:47 -0500 (Sun, 09 Nov 2025) EllapsedTime: 176.3 seconds RetCode: 0 Status: OK CheckDir: AffiXcan.Rcheck Warnings: 0