Package: AWFisher Version: 1.22.0 Command: /Library/Frameworks/R.framework/Resources/bin/R CMD INSTALL AWFisher StartedAt: 2025-10-13 15:16:59 -0400 (Mon, 13 Oct 2025) EndedAt: 2025-10-13 15:17:13 -0400 (Mon, 13 Oct 2025) EllapsedTime: 14.1 seconds RetCode: 0 Status: OK