Package: AWFisher Version: 1.22.0 Command: /Library/Frameworks/R.framework/Resources/bin/R CMD build --keep-empty-dirs --no-resave-data AWFisher StartedAt: 2025-10-13 19:23:39 -0400 (Mon, 13 Oct 2025) EndedAt: 2025-10-13 19:24:18 -0400 (Mon, 13 Oct 2025) EllapsedTime: 38.9 seconds RetCode: 0 Status: OK PackageFile: AWFisher_1.22.0.tar.gz PackageFileSize: 1.399 MiB