Package: AUCell Version: 1.32.0 Command: /home/biocbuild/R/R/bin/R CMD build --keep-empty-dirs --no-resave-data AUCell StartedAt: 2025-11-21 00:16:11 -0000 (Fri, 21 Nov 2025) EndedAt: 2025-11-21 00:19:00 -0000 (Fri, 21 Nov 2025) EllapsedTime: 168.0 seconds RetCode: 0 Status: OK PackageFile: AUCell_1.32.0.tar.gz PackageFileSize: 1.048 MiB