Package: AUCell Version: 1.31.0 Command: chmod a+r AUCell -R && F:\biocbuild\bbs-3.22-bioc\R\bin\R.exe CMD build --keep-empty-dirs --no-resave-data AUCell StartedAt: 2025-08-14 18:30:55 -0400 (Thu, 14 Aug 2025) EndedAt: 2025-08-14 18:33:22 -0400 (Thu, 14 Aug 2025) EllapsedTime: 147.6 seconds RetCode: 0 Status: OK PackageFile: AUCell_1.31.0.tar.gz PackageFileSize: 959 KiB