Package: AUCell Version: 1.30.1 Command: /Library/Frameworks/R.framework/Resources/bin/R CMD build --keep-empty-dirs --no-resave-data AUCell StartedAt: 2025-10-13 17:07:31 -0400 (Mon, 13 Oct 2025) EndedAt: 2025-10-13 17:10:59 -0400 (Mon, 13 Oct 2025) EllapsedTime: 207.5 seconds RetCode: 0 Status: OK PackageFile: AUCell_1.30.1.tar.gz PackageFileSize: 2.411 MiB