Package: AUCell Version: 1.30.0 Command: /Library/Frameworks/R.framework/Resources/bin/R CMD INSTALL AUCell StartedAt: 2025-04-21 15:23:16 -0400 (Mon, 21 Apr 2025) EndedAt: 2025-04-21 15:23:59 -0400 (Mon, 21 Apr 2025) EllapsedTime: 42.4 seconds RetCode: 0 Status: OK