Package: AUCell Version: 1.30.1 Command: /home/biocbuild/R/R/bin/R CMD INSTALL AUCell StartedAt: 2025-10-02 20:43:53 -0000 (Thu, 02 Oct 2025) EndedAt: 2025-10-02 20:44:37 -0000 (Thu, 02 Oct 2025) EllapsedTime: 44.7 seconds RetCode: 0 Status: OK