Package: AUCell Version: 1.30.0 Command: /Library/Frameworks/R.framework/Resources/bin/R CMD build --keep-empty-dirs --no-resave-data AUCell StartedAt: 2025-04-21 15:39:25 -0400 (Mon, 21 Apr 2025) EndedAt: 2025-04-21 15:40:14 -0400 (Mon, 21 Apr 2025) EllapsedTime: 48.6 seconds RetCode: 0 Status: OK PackageFile: AUCell_1.30.0.tar.gz PackageFileSize: 2.414 MiB