Package: AUCell Version: 1.30.1 Command: /Library/Frameworks/R.framework/Resources/bin/R CMD check --install=check:AUCell.install-out.txt --library=/Library/Frameworks/R.framework/Resources/library --no-vignettes --timings AUCell_1.30.1.tar.gz StartedAt: 2025-09-30 13:04:44 -0400 (Tue, 30 Sep 2025) EndedAt: 2025-09-30 13:09:13 -0400 (Tue, 30 Sep 2025) EllapsedTime: 269.3 seconds RetCode: 0 Status: OK CheckDir: AUCell.Rcheck Warnings: 0