Package: ASpli Version: 2.18.0 Command: rm -rf ASpli.buildbin-libdir && mkdir ASpli.buildbin-libdir && /Users/biocbuild/BBS/utils/build-universal.sh ASpli_2.18.0.tar.gz /Library/Frameworks/R.framework/Resources/bin/R ASpli.buildbin-libdir StartedAt: 2025-04-21 22:26:23 -0400 (Mon, 21 Apr 2025) EndedAt: 2025-04-21 22:26:51 -0400 (Mon, 21 Apr 2025) EllapsedTime: 27.6 seconds RetCode: 0 Status: OK PackageFile: ASpli_2.18.0.tgz PackageFileSize: 3.207 MiB