Package: ASSIGN Version: 1.45.0 Command: /home/biocbuild/R/R/bin/R CMD INSTALL ASSIGN StartedAt: 2025-10-23 20:49:17 -0000 (Thu, 23 Oct 2025) EndedAt: 2025-10-23 20:49:21 -0000 (Thu, 23 Oct 2025) EllapsedTime: 3.6 seconds RetCode: 0 Status: OK