Package: ASSIGN Version: 1.45.0 Command: chmod a+r ASSIGN -R && F:\biocbuild\bbs-3.22-bioc\R\bin\R.exe CMD build --keep-empty-dirs --no-resave-data ASSIGN StartedAt: 2025-08-14 18:30:01 -0400 (Thu, 14 Aug 2025) EndedAt: 2025-08-14 18:30:21 -0400 (Thu, 14 Aug 2025) EllapsedTime: 20.4 seconds RetCode: 0 Status: OK PackageFile: ASSIGN_1.45.0.tar.gz PackageFileSize: 1.621 MiB