Package: ASSIGN Version: 1.46.0 Command: /home/biocbuild/bbs-3.22-bioc/R/bin/R CMD build --keep-empty-dirs --no-resave-data --md5 ASSIGN StartedAt: 2025-11-06 16:16:44 -0500 (Thu, 06 Nov 2025) EndedAt: 2025-11-06 16:16:50 -0500 (Thu, 06 Nov 2025) EllapsedTime: 6.0 seconds RetCode: 0 Status: OK PackageFile: ASSIGN_1.46.0.tar.gz PackageFileSize: 1.624 MiB