Package: ASSIGN Version: 1.46.0 Command: /Library/Frameworks/R.framework/Resources/bin/R CMD INSTALL ASSIGN StartedAt: 2025-11-03 15:31:01 -0500 (Mon, 03 Nov 2025) EndedAt: 2025-11-03 15:31:05 -0500 (Mon, 03 Nov 2025) EllapsedTime: 4.6 seconds RetCode: 0 Status: OK