Package: ASSIGN Version: 1.46.0 Command: /Library/Frameworks/R.framework/Resources/bin/R CMD check --install=check:ASSIGN.install-out.txt --library=/Library/Frameworks/R.framework/Resources/library --no-vignettes --timings ASSIGN_1.46.0.tar.gz StartedAt: 2025-11-10 18:46:41 -0500 (Mon, 10 Nov 2025) EndedAt: 2025-11-10 18:47:00 -0500 (Mon, 10 Nov 2025) EllapsedTime: 18.3 seconds RetCode: 0 Status: OK CheckDir: ASSIGN.Rcheck Warnings: 0