Package: ASSET Version: 2.26.0 Command: /home/biocbuild/bbs-3.21-bioc/R/bin/R CMD INSTALL ASSET StartedAt: 2025-10-15 15:06:06 -0400 (Wed, 15 Oct 2025) EndedAt: 2025-10-15 15:06:38 -0400 (Wed, 15 Oct 2025) EllapsedTime: 31.9 seconds RetCode: 0 Status: OK