Package: ASSET Version: 2.26.0 Command: /home/biocbuild/bbs-3.21-bioc/R/bin/R CMD check --install=check:ASSET.install-out.txt --library=/home/biocbuild/bbs-3.21-bioc/R/site-library --timings ASSET_2.26.0.tar.gz StartedAt: 2025-10-15 20:50:59 -0400 (Wed, 15 Oct 2025) EndedAt: 2025-10-15 20:52:57 -0400 (Wed, 15 Oct 2025) EllapsedTime: 118.2 seconds RetCode: 0 Status: OK CheckDir: ASSET.Rcheck Warnings: 0