Package: ASSET Version: 2.26.0 Command: /home/biocbuild/bbs-3.21-bioc/R/bin/R CMD build --keep-empty-dirs --no-resave-data ASSET StartedAt: 2025-10-15 16:12:50 -0400 (Wed, 15 Oct 2025) EndedAt: 2025-10-15 16:13:05 -0400 (Wed, 15 Oct 2025) EllapsedTime: 15.0 seconds RetCode: 0 Status: OK PackageFile: ASSET_2.26.0.tar.gz PackageFileSize: 322.3 KiB