Package: ASSET Version: 2.26.0 Command: /Library/Frameworks/R.framework/Resources/bin/R CMD build --keep-empty-dirs --no-resave-data ASSET StartedAt: 2025-04-21 15:38:46 -0400 (Mon, 21 Apr 2025) EndedAt: 2025-04-21 15:38:54 -0400 (Mon, 21 Apr 2025) EllapsedTime: 8.1 seconds RetCode: 0 Status: OK PackageFile: ASSET_2.26.0.tar.gz PackageFileSize: 321.9 KiB