Package: ASGSCA Version: 1.43.0 Command: F:\biocbuild\bbs-3.22-bioc\R\bin\R.exe CMD check --no-multiarch --install=check:ASGSCA.install-out.txt --library=F:\biocbuild\bbs-3.22-bioc\R\library --no-vignettes --timings ASGSCA_1.43.0.tar.gz StartedAt: 2025-08-15 00:34:20 -0400 (Fri, 15 Aug 2025) EndedAt: 2025-08-15 00:38:22 -0400 (Fri, 15 Aug 2025) EllapsedTime: 242.2 seconds RetCode: 0 Status: OK CheckDir: ASGSCA.Rcheck Warnings: 0