Package: ASGSCA Version: 1.42.0 Command: /Library/Frameworks/R.framework/Resources/bin/R CMD INSTALL ASGSCA StartedAt: 2025-10-13 15:10:03 -0400 (Mon, 13 Oct 2025) EndedAt: 2025-10-13 15:10:27 -0400 (Mon, 13 Oct 2025) EllapsedTime: 24.1 seconds RetCode: 0 Status: OK