Package: ASGSCA Version: 1.42.0 Command: /Library/Frameworks/R.framework/Resources/bin/R CMD build --keep-empty-dirs --no-resave-data ASGSCA StartedAt: 2025-10-13 17:05:35 -0400 (Mon, 13 Oct 2025) EndedAt: 2025-10-13 17:11:55 -0400 (Mon, 13 Oct 2025) EllapsedTime: 379.2 seconds RetCode: 0 Status: OK PackageFile: ASGSCA_1.42.0.tar.gz PackageFileSize: 1.292 MiB