Package: ASAFE Version: 1.34.0 Command: E:\biocbuild\bbs-3.21-bioc\R\bin\R.exe CMD check --no-multiarch --install=check:ASAFE.install-out.txt --library=E:\biocbuild\bbs-3.21-bioc\R\library --no-vignettes --timings ASAFE_1.34.0.tar.gz StartedAt: 2025-08-14 23:30:04 -0400 (Thu, 14 Aug 2025) EndedAt: 2025-08-14 23:30:34 -0400 (Thu, 14 Aug 2025) EllapsedTime: 29.9 seconds RetCode: 0 Status: OK CheckDir: ASAFE.Rcheck Warnings: 0