Package: ASAFE Version: 1.34.0 Command: rm -rf ASAFE.buildbin-libdir && mkdir ASAFE.buildbin-libdir && E:\biocbuild\bbs-3.21-bioc\R\bin\R.exe CMD INSTALL --build --library=ASAFE.buildbin-libdir ASAFE_1.34.0.tar.gz StartedAt: 2025-08-15 08:46:43 -0400 (Fri, 15 Aug 2025) EndedAt: 2025-08-15 08:46:54 -0400 (Fri, 15 Aug 2025) EllapsedTime: 10.5 seconds RetCode: 0 Status: OK PackageFile: ASAFE_1.34.0.zip PackageFileSize: 590.6 KiB