Package: ASAFE Version: 1.34.0 Command: /Library/Frameworks/R.framework/Resources/bin/R CMD build --keep-empty-dirs --no-resave-data ASAFE StartedAt: 2025-10-13 17:05:28 -0400 (Mon, 13 Oct 2025) EndedAt: 2025-10-13 17:05:45 -0400 (Mon, 13 Oct 2025) EllapsedTime: 17.5 seconds RetCode: 0 Status: OK PackageFile: ASAFE_1.34.0.tar.gz PackageFileSize: 425.9 KiB