Package: ASAFE Version: 1.34.0 Command: rm -rf ASAFE.buildbin-libdir && mkdir ASAFE.buildbin-libdir && /Users/biocbuild/BBS/utils/build-universal.sh ASAFE_1.34.0.tar.gz /Library/Frameworks/R.framework/Resources/bin/R ASAFE.buildbin-libdir StartedAt: 2025-10-14 12:50:48 -0400 (Tue, 14 Oct 2025) EndedAt: 2025-10-14 12:50:54 -0400 (Tue, 14 Oct 2025) EllapsedTime: 6.2 seconds RetCode: 0 Status: OK PackageFile: ASAFE_1.34.0.tgz PackageFileSize: 585.7 KiB