Package: ASAFE Version: 1.34.0 Command: /home/biocbuild/R/R/bin/R CMD build --keep-empty-dirs --no-resave-data ASAFE StartedAt: 2025-10-13 22:37:35 -0000 (Mon, 13 Oct 2025) EndedAt: 2025-10-13 22:37:43 -0000 (Mon, 13 Oct 2025) EllapsedTime: 8.0 seconds RetCode: 0 Status: OK PackageFile: ASAFE_1.34.0.tar.gz PackageFileSize: 394.3 KiB