Package: ASAFE Version: 1.34.0 Command: /Library/Frameworks/R.framework/Resources/bin/R CMD check --install=check:ASAFE.install-out.txt --library=/Library/Frameworks/R.framework/Resources/library --no-vignettes --timings ASAFE_1.34.0.tar.gz StartedAt: 2025-10-14 13:00:03 -0400 (Tue, 14 Oct 2025) EndedAt: 2025-10-14 13:00:30 -0400 (Tue, 14 Oct 2025) EllapsedTime: 27.2 seconds RetCode: 0 Status: OK CheckDir: ASAFE.Rcheck Warnings: 0