Package: ARRmNormalization Version: 1.50.0 Command: /home/biocbuild/bbs-3.22-bioc/R/bin/R CMD check --install=check:ARRmNormalization.install-out.txt --library=/home/biocbuild/bbs-3.22-bioc/R/site-library --timings ARRmNormalization_1.50.0.tar.gz StartedAt: 2025-11-06 21:05:32 -0500 (Thu, 06 Nov 2025) EndedAt: 2025-11-06 21:07:18 -0500 (Thu, 06 Nov 2025) EllapsedTime: 106.1 seconds RetCode: 0 Status: OK CheckDir: ARRmNormalization.Rcheck Warnings: 0