Package: APL Version: 1.12.0 Command: rm -rf APL.buildbin-libdir && mkdir APL.buildbin-libdir && /Users/biocbuild/BBS/utils/build-universal.sh APL_1.12.0.tar.gz /Library/Frameworks/R.framework/Resources/bin/R APL.buildbin-libdir StartedAt: 2025-10-14 12:50:39 -0400 (Tue, 14 Oct 2025) EndedAt: 2025-10-14 12:52:13 -0400 (Tue, 14 Oct 2025) EllapsedTime: 94.0 seconds RetCode: 0 Status: OK PackageFile: APL_1.12.0.tgz PackageFileSize: 2.835 MiB