Package: APAlyzer Version: 1.22.0 Command: /home/biocbuild/bbs-3.21-bioc/R/bin/R CMD check --install=check:APAlyzer.install-out.txt --library=/home/biocbuild/bbs-3.21-bioc/R/site-library --timings APAlyzer_1.22.0.tar.gz StartedAt: 2025-10-15 20:48:56 -0400 (Wed, 15 Oct 2025) EndedAt: 2025-10-15 20:56:55 -0400 (Wed, 15 Oct 2025) EllapsedTime: 478.9 seconds RetCode: 1 Status: ERROR CheckDir: APAlyzer.Rcheck Warnings: NA