Package: APAlyzer Version: 1.22.0 Command: /home/biocbuild/bbs-3.21-bioc/R/bin/R CMD build --keep-empty-dirs --no-resave-data APAlyzer StartedAt: 2025-10-15 16:11:26 -0400 (Wed, 15 Oct 2025) EndedAt: 2025-10-15 16:13:07 -0400 (Wed, 15 Oct 2025) EllapsedTime: 101.1 seconds RetCode: 0 Status: OK PackageFile: APAlyzer_1.22.0.tar.gz PackageFileSize: 3.917 MiB