Package: ANCOMBC Version: 2.10.1 Command: E:\biocbuild\bbs-3.21-bioc\R\bin\R.exe CMD check --no-multiarch --install=check:ANCOMBC.install-out.txt --library=E:\biocbuild\bbs-3.21-bioc\R\library --no-vignettes --timings ANCOMBC_2.10.1.tar.gz StartedAt: 2025-08-14 23:24:30 -0400 (Thu, 14 Aug 2025) EndedAt: 2025-08-14 23:30:14 -0400 (Thu, 14 Aug 2025) EllapsedTime: 344.2 seconds RetCode: 0 Status: OK CheckDir: ANCOMBC.Rcheck Warnings: 0