Package: AMARETTO Version: 1.26.0 Command: /Library/Frameworks/R.framework/Resources/bin/R CMD INSTALL AMARETTO StartedAt: 2025-11-03 15:51:14 -0500 (Mon, 03 Nov 2025) EndedAt: 2025-11-03 15:52:02 -0500 (Mon, 03 Nov 2025) EllapsedTime: 48.0 seconds RetCode: 0 Status: OK