Package: AMARETTO Version: 1.26.0 Command: /Library/Frameworks/R.framework/Resources/bin/R CMD check --install=check:AMARETTO.install-out.txt --library=/Library/Frameworks/R.framework/Resources/library --no-vignettes --timings AMARETTO_1.26.0.tar.gz StartedAt: 2025-11-03 19:27:28 -0500 (Mon, 03 Nov 2025) EndedAt: 2025-11-03 19:32:39 -0500 (Mon, 03 Nov 2025) EllapsedTime: 311.5 seconds RetCode: 0 Status: WARNINGS CheckDir: AMARETTO.Rcheck Warnings: 1