Package: ALDEx2 Version: 1.42.0 Command: /home/biocbuild/bbs-3.22-bioc/R/bin/R CMD check --install=check:ALDEx2.install-out.txt --library=/home/biocbuild/bbs-3.22-bioc/R/site-library --timings ALDEx2_1.42.0.tar.gz StartedAt: 2025-11-20 21:49:39 -0500 (Thu, 20 Nov 2025) EndedAt: 2025-11-20 21:54:48 -0500 (Thu, 20 Nov 2025) EllapsedTime: 309.3 seconds RetCode: 0 Status: OK CheckDir: ALDEx2.Rcheck Warnings: 0