Package: ALDEx2 Version: 1.42.0 Command: /home/biocbuild/bbs-3.22-bioc/R/bin/R CMD build --keep-empty-dirs --no-resave-data --md5 ALDEx2 StartedAt: 2025-11-20 17:03:18 -0500 (Thu, 20 Nov 2025) EndedAt: 2025-11-20 17:04:57 -0500 (Thu, 20 Nov 2025) EllapsedTime: 99.1 seconds RetCode: 0 Status: OK PackageFile: ALDEx2_1.42.0.tar.gz PackageFileSize: 3.034 MiB