Package: AIMS Version: 1.41.0 Command: /home/biocbuild/R/R/bin/R CMD INSTALL AIMS StartedAt: 2025-10-23 20:31:25 -0000 (Thu, 23 Oct 2025) EndedAt: 2025-10-23 20:31:33 -0000 (Thu, 23 Oct 2025) EllapsedTime: 8.4 seconds RetCode: 0 Status: OK