Package: AIMS Version: 1.40.0 Command: chmod a+r AIMS -R && E:\biocbuild\bbs-3.21-bioc\R\bin\R.exe CMD build --keep-empty-dirs --no-resave-data AIMS StartedAt: 2025-08-14 17:17:23 -0400 (Thu, 14 Aug 2025) EndedAt: 2025-08-14 17:17:51 -0400 (Thu, 14 Aug 2025) EllapsedTime: 27.9 seconds RetCode: 0 Status: OK PackageFile: AIMS_1.40.0.tar.gz PackageFileSize: 486 KiB