Package: AIMS Version: 1.42.0 Command: /home/biocbuild/bbs-3.22-bioc/R/bin/R CMD check --install=check:AIMS.install-out.txt --library=/home/biocbuild/bbs-3.22-bioc/R/site-library --timings AIMS_1.42.0.tar.gz StartedAt: 2025-11-14 21:04:41 -0500 (Fri, 14 Nov 2025) EndedAt: 2025-11-14 21:05:18 -0500 (Fri, 14 Nov 2025) EllapsedTime: 37.0 seconds RetCode: 0 Status: OK CheckDir: AIMS.Rcheck Warnings: 0