Package: AIMS Version: 1.40.0 Command: /home/biocbuild/bbs-3.21-bioc/R/bin/R CMD check --install=check:AIMS.install-out.txt --library=/home/biocbuild/bbs-3.21-bioc/R/site-library --timings AIMS_1.40.0.tar.gz StartedAt: 2025-09-28 20:53:55 -0400 (Sun, 28 Sep 2025) EndedAt: 2025-09-28 20:54:32 -0400 (Sun, 28 Sep 2025) EllapsedTime: 37.0 seconds RetCode: 0 Status: OK CheckDir: AIMS.Rcheck Warnings: 0